BEGIN:VCALENDAR
VERSION:2.0
PRODID:-//Buzz Patterson For Congress - ECPv5.1.4//NONSGML v1.0//EN
CALSCALE:GREGORIAN
METHOD:PUBLISH
X-WR-CALNAME:Buzz Patterson For Congress
X-ORIGINAL-URL:https://buzz4congress.com
X-WR-CALDESC:Events for Buzz Patterson For Congress
BEGIN:VTIMEZONE
TZID:UTC
BEGIN:STANDARD
TZOFFSETFROM:+0000
TZOFFSETTO:+0000
TZNAME:UTC
DTSTART:20200101T000000
END:STANDARD
END:VTIMEZONE
BEGIN:VEVENT
DTSTART;TZID=UTC:20200704T110000
DTEND;TZID=UTC:20200704T140000
DTSTAMP:20201106T171108
CREATED:20200702T203301Z
LAST-MODIFIED:20200702T203615Z
UID:2975-1593860400-1593871200@buzz4congress.com
SUMMARY:Sacramento County GOP Open House
DESCRIPTION:
URL:https://buzz4congress.com/event/sac-gop-open-house/
LOCATION:Sacramento County GOP\, 9851 Horn Rd.\, Sacramento\, CA\, 95827\, United States
END:VEVENT
END:VCALENDAR