BEGIN:VCALENDAR
VERSION:2.0
PRODID:-//Buzz Patterson For Congress - ECPv5.1.4//NONSGML v1.0//EN
CALSCALE:GREGORIAN
METHOD:PUBLISH
X-WR-CALNAME:Buzz Patterson For Congress
X-ORIGINAL-URL:https://buzz4congress.com
X-WR-CALDESC:Events for Buzz Patterson For Congress
BEGIN:VTIMEZONE
TZID:UTC
BEGIN:STANDARD
TZOFFSETFROM:+0000
TZOFFSETTO:+0000
TZNAME:UTC
DTSTART:20200101T000000
END:STANDARD
END:VTIMEZONE
BEGIN:VEVENT
DTSTART;TZID=UTC:20200701T160000
DTEND;TZID=UTC:20200701T180000
DTSTAMP:20201106T173246
CREATED:20200627T185313Z
LAST-MODIFIED:20200627T190549Z
UID:2894-1593619200-1593626400@buzz4congress.com
SUMMARY:Old Town Elk Grove Meet & Greet
DESCRIPTION:LIMITED SEATING\n \nRSVP (916) 799-0104 \n
URL:https://buzz4congress.com/event/old-town-elk-grove-meet-greet/
LOCATION:The Barn Cafe\, 8976 Grant Line Rd.\, Elk Grove\, CA\, 95624\, United States
ATTACH;FMTTYPE=image/jpeg:https://buzz4congress.com/wp-content/uploads/2020/06/72701.jpeg
END:VEVENT
BEGIN:VEVENT
DTSTART;TZID=UTC:20200704T110000
DTEND;TZID=UTC:20200704T140000
DTSTAMP:20201106T173246
CREATED:20200702T203301Z
LAST-MODIFIED:20200702T203615Z
UID:2975-1593860400-1593871200@buzz4congress.com
SUMMARY:Sacramento County GOP Open House
DESCRIPTION:
URL:https://buzz4congress.com/event/sac-gop-open-house/
LOCATION:Sacramento County GOP\, 9851 Horn Rd.\, Sacramento\, CA\, 95827\, United States
END:VEVENT
BEGIN:VEVENT
DTSTART;TZID=UTC:20200718T080000
DTEND;TZID=UTC:20200718T170000
DTSTAMP:20201106T173246
CREATED:20200603T023045Z
LAST-MODIFIED:20200627T192412Z
UID:2532-1595059200-1595091600@buzz4congress.com
SUMMARY:Voter Registration\, Ballot Harvesting Training
DESCRIPTION:SIGNUP HERE\n  \n
URL:https://buzz4congress.com/event/voter-registration-ballot-harvesting-training/
LOCATION:CA
ATTACH;FMTTYPE=image/jpeg:https://buzz4congress.com/wp-content/uploads/2020/06/scott-presler-1-620x330-1-e1593197375860.jpg
END:VEVENT
BEGIN:VEVENT
DTSTART;TZID=UTC:20200731T150000
DTEND;TZID=UTC:20200731T180000
DTSTAMP:20201106T173246
CREATED:20200727T182908Z
LAST-MODIFIED:20200727T185507Z
UID:3001-1596207600-1596218400@buzz4congress.com
SUMMARY:Open House - Meet & Greet
DESCRIPTION: \n
URL:https://buzz4congress.com/event/open-house-meet-greet/
LOCATION:Buzz4Congress HQ\, 1004 River Rock Dr\, Ste 243\, Folsom\, CA\, 95630\, United States
ORGANIZER;CN="Buzz4Congress":MAILTO:info@buzz4congress.com
END:VEVENT
BEGIN:VEVENT
DTSTART;TZID=UTC:20200801T100000
DTEND;TZID=UTC:20200801T170000
DTSTAMP:20201106T173246
CREATED:20200727T182520Z
LAST-MODIFIED:20200727T182520Z
UID:2997-1596276000-1596301200@buzz4congress.com
SUMMARY:Rescue America Rally
DESCRIPTION: \n
URL:https://buzz4congress.com/event/rescue-america-rally/
LOCATION:CA
ORGANIZER;CN="Walk%20Away%20Campaign":MAILTO:info@walkawaycampaign.com
END:VEVENT
END:VCALENDAR